BEGIN:VCALENDAR
VERSION:2.0
PRODID:-//Centre de santé communautaire de Nipissing Ouest - West Nipissing Community Health Centre - ECPv6.15.20//NONSGML v1.0//EN
CALSCALE:GREGORIAN
METHOD:PUBLISH
X-WR-CALNAME:Centre de santé communautaire de Nipissing Ouest - West Nipissing Community Health Centre
X-ORIGINAL-URL:https://www.cscno-wnchc.org
X-WR-CALDESC:Events for Centre de santé communautaire de Nipissing Ouest - West Nipissing Community Health Centre
REFRESH-INTERVAL;VALUE=DURATION:PT1H
X-Robots-Tag:noindex
X-PUBLISHED-TTL:PT1H
BEGIN:VTIMEZONE
TZID:America/Toronto
BEGIN:DAYLIGHT
TZOFFSETFROM:-0500
TZOFFSETTO:-0400
TZNAME:EDT
DTSTART:20240310T070000
END:DAYLIGHT
BEGIN:STANDARD
TZOFFSETFROM:-0400
TZOFFSETTO:-0500
TZNAME:EST
DTSTART:20241103T060000
END:STANDARD
BEGIN:DAYLIGHT
TZOFFSETFROM:-0500
TZOFFSETTO:-0400
TZNAME:EDT
DTSTART:20250309T070000
END:DAYLIGHT
BEGIN:STANDARD
TZOFFSETFROM:-0400
TZOFFSETTO:-0500
TZNAME:EST
DTSTART:20251102T060000
END:STANDARD
BEGIN:DAYLIGHT
TZOFFSETFROM:-0500
TZOFFSETTO:-0400
TZNAME:EDT
DTSTART:20260308T070000
END:DAYLIGHT
BEGIN:STANDARD
TZOFFSETFROM:-0400
TZOFFSETTO:-0500
TZNAME:EST
DTSTART:20261101T060000
END:STANDARD
END:VTIMEZONE
BEGIN:VEVENT
DTSTART;TZID=America/Toronto:20250205T153000
DTEND;TZID=America/Toronto:20250205T200000
DTSTAMP:20260420T024643
CREATED:20231218T164316Z
LAST-MODIFIED:20251210T183736Z
UID:10020356-1738769400-1738785600@www.cscno-wnchc.org
SUMMARY:The Lighthouse
DESCRIPTION:The Youth Positive Space Program welcomes all youth between the ages of 12 and 18. The space allows youth to express their authentic self and explore their identity without fear by interacting with peers and mentors. \nRegistration mandatory: Click here to register. \nWe look forward to seeing you there! \n  \nWe would like to thank and recognize our local partners for their ongoing contributions in planning and investing in the youth positive space in our community: \nMunicipality of West Nipissing\, West Nipissing Pride\, École secondaire catholique Franco-Cité\, École secondaire publique Nipissing Ouest\, West Nipissing Family Health Team\, OUTLoud North Bay & many local volunteers!
URL:https://www.cscno-wnchc.org/calendrier/youth-positive-space-4/2025-02-05/
LOCATION:ON
ATTACH;FMTTYPE=image/jpeg:https://www.cscno-wnchc.org/wp-content/uploads/2023/05/Untitled-design-e1684436899914.jpg
END:VEVENT
BEGIN:VEVENT
DTSTART;TZID=America/Toronto:20250205T130000
DTEND;TZID=America/Toronto:20250205T140000
DTSTAMP:20260420T024643
CREATED:20240912T135308Z
LAST-MODIFIED:20251210T183557Z
UID:10012324-1738760400-1738764000@www.cscno-wnchc.org
SUMMARY:Move & Play for Seniors
DESCRIPTION:This program is designed to keep seniors active all while socializing and having fun! A mix of active games and low-impact exercises will be offered.  Programming will vary by week. \nThis group is geared towards seniors aged 65+. Register here!
URL:https://www.cscno-wnchc.org/calendrier/move-play-for-seniors/2025-02-05/
LOCATION:WNCHC Gym\, 68 Michaud St.\, Sturgeon Falls\, ON\, P2B 1B8\, Canada
ATTACH;FMTTYPE=image/jpeg:https://www.cscno-wnchc.org/wp-content/uploads/2024/09/pexels-wellness-gallery-catalyst-foundation-229759139-12086688-scaled.jpg
END:VEVENT
BEGIN:VEVENT
DTSTART;TZID=America/Toronto:20250205T100000
DTEND;TZID=America/Toronto:20250205T140000
DTSTAMP:20260420T024643
CREATED:20231212T153358Z
LAST-MODIFIED:20251210T182627Z
UID:10019843-1738749600-1738764000@www.cscno-wnchc.org
SUMMARY:OASIS: Senior's Day Program (ENG)
DESCRIPTION:The Older Adults Staying in Shape (OASIS) is a holistic health program that meets the social\, physical\, emotional\, mental health and cognitive needs of older adults living in West Nipissing. \nRegistration required. Register here! \n*This program is currently at full capacity*
URL:https://www.cscno-wnchc.org/calendrier/oasis-seniors-day-program-eng-2/2025-02-05/
LOCATION:Community Room A&B\, 68 Michaud Street\, Sturgeon Falls\, Ontario\, P2B 1B8\, Canada
ATTACH;FMTTYPE=image/jpeg:https://www.cscno-wnchc.org/wp-content/uploads/2023/01/pexels-kampus-production-8441776-scaled-e1675953829996.jpg
END:VEVENT
BEGIN:VEVENT
DTSTART;TZID=America/Toronto:20250205T090000
DTEND;TZID=America/Toronto:20250205T150000
DTSTAMP:20260420T024643
CREATED:20231211T202935Z
LAST-MODIFIED:20241217T132923Z
UID:10024996-1738746000-1738767600@www.cscno-wnchc.org
SUMMARY:Alzheimer's Society Program
DESCRIPTION:The Alzheimer Society Adult Day Program offers a safe\, structured and stimulating environment that provides clients with meaningful activities and basic personal care while respecting their life history\, cultural and spiritual beliefs.
URL:https://www.cscno-wnchc.org/calendrier/programme-dappuie-de-la-societe-alzheimer/2025-02-05/
LOCATION:Community Room A&B\, 68 Michaud Street\, Sturgeon Falls\, Ontario\, P2B 1B8\, Canada
ATTACH;FMTTYPE=image/jpeg:https://www.cscno-wnchc.org/wp-content/uploads/2023/01/taylor-hernandez-NK-N6coeI5Y-unsplash-scaled-e1675889403635.jpg
END:VEVENT
BEGIN:VEVENT
DTSTART;TZID=America/Toronto:20250204T190000
DTEND;TZID=America/Toronto:20250204T200000
DTSTAMP:20260420T024643
CREATED:20241016T132325Z
LAST-MODIFIED:20250227T134542Z
UID:10015513-1738695600-1738699200@www.cscno-wnchc.org
SUMMARY:Hatha Yoga (Field)
DESCRIPTION:
URL:https://www.cscno-wnchc.org/calendrier/hatha-yoga-field/2025-02-04/
LOCATION:Golden Age Club – Field\, 65 Jarbeau St\, Field\, ON\, P0H1M0\, Canada
ATTACH;FMTTYPE=image/jpeg:https://www.cscno-wnchc.org/wp-content/uploads/2024/08/pexels-yankrukov-8437015-scaled.jpg
END:VEVENT
BEGIN:VEVENT
DTSTART;TZID=America/Toronto:20250204T100000
DTEND;TZID=America/Toronto:20250204T130000
DTSTAMP:20260420T024643
CREATED:20240912T142741Z
LAST-MODIFIED:20251210T180701Z
UID:10013463-1738663200-1738674000@www.cscno-wnchc.org
SUMMARY:OASIS: Senior's Day Program
DESCRIPTION:The Older Adults Staying in Shape (OASIS) is a holistic health program that meets the social\, physical\, emotional\, mental health and cognitive needs of older adults living in West Nipissing. \nClick here to register.
URL:https://www.cscno-wnchc.org/calendrier/oasis-seniors-day-program/2025-02-04/
LOCATION:Activity Room E\, 68 Michaud Street\, Sturgeon Falls\, Ontario\, P2B 1B8\, Canada
ATTACH;FMTTYPE=image/jpeg:https://www.cscno-wnchc.org/wp-content/uploads/2024/09/pexels-kampus-6762298-scaled.jpg
END:VEVENT
BEGIN:VEVENT
DTSTART;TZID=America/Toronto:20250204T090000
DTEND;TZID=America/Toronto:20250204T150000
DTSTAMP:20260420T024644
CREATED:20231211T202935Z
LAST-MODIFIED:20241217T132923Z
UID:10023711-1738659600-1738681200@www.cscno-wnchc.org
SUMMARY:Alzheimer's Society Program
DESCRIPTION:The Alzheimer Society Adult Day Program offers a safe\, structured and stimulating environment that provides clients with meaningful activities and basic personal care while respecting their life history\, cultural and spiritual beliefs.
URL:https://www.cscno-wnchc.org/calendrier/programme-dappuie-de-la-societe-alzheimer/2025-02-04/
LOCATION:Community Room A&B\, 68 Michaud Street\, Sturgeon Falls\, Ontario\, P2B 1B8\, Canada
ATTACH;FMTTYPE=image/jpeg:https://www.cscno-wnchc.org/wp-content/uploads/2023/01/taylor-hernandez-NK-N6coeI5Y-unsplash-scaled-e1675889403635.jpg
END:VEVENT
BEGIN:VEVENT
DTSTART;TZID=America/Toronto:20250203T090000
DTEND;TZID=America/Toronto:20250203T133000
DTSTAMP:20260420T024644
CREATED:20250123T192122Z
LAST-MODIFIED:20251210T162432Z
UID:10025520-1738573200-1738589400@www.cscno-wnchc.org
SUMMARY:Sewing
DESCRIPTION:Sewing for a cause! Participants work on various projects (pyjamas\, clothing\, quilts\, etc.) based on needs. These articles are donated to different organizations and to individuals in our community or abroad. \nRegistration required. *This program is currently at full capacity* \nClick here to register!
URL:https://www.cscno-wnchc.org/calendrier/sewing/2025-02-03/
LOCATION:Community Room A&B\, 68 Michaud Street\, Sturgeon Falls\, Ontario\, P2B 1B8\, Canada
END:VEVENT
BEGIN:VEVENT
DTSTART;TZID=America/Toronto:20250130T140000
DTEND;TZID=America/Toronto:20250130T160000
DTSTAMP:20260420T024644
CREATED:20241210T174630Z
LAST-MODIFIED:20251210T183358Z
UID:10021909-1738245600-1738252800@www.cscno-wnchc.org
SUMMARY:Early-ON: Busy Toddlers
DESCRIPTION:
URL:https://www.cscno-wnchc.org/calendrier/early-on-busy-toddlers/2025-01-30/
LOCATION:WNCHC Gym\, 68 Michaud St.\, Sturgeon Falls\, ON\, P2B 1B8\, Canada
ATTACH;FMTTYPE=image/jpeg:https://www.cscno-wnchc.org/wp-content/uploads/2024/12/Untitled-14-x-11-in-1.jpg
END:VEVENT
BEGIN:VEVENT
DTSTART;TZID=America/Toronto:20250130T130000
DTEND;TZID=America/Toronto:20250130T140000
DTSTAMP:20260420T024644
CREATED:20240912T135308Z
LAST-MODIFIED:20251210T183557Z
UID:10012323-1738242000-1738245600@www.cscno-wnchc.org
SUMMARY:Move & Play for Seniors
DESCRIPTION:This program is designed to keep seniors active all while socializing and having fun! A mix of active games and low-impact exercises will be offered.  Programming will vary by week. \nThis group is geared towards seniors aged 65+. Register here!
URL:https://www.cscno-wnchc.org/calendrier/move-play-for-seniors/2025-01-30/
LOCATION:WNCHC Gym\, 68 Michaud St.\, Sturgeon Falls\, ON\, P2B 1B8\, Canada
ATTACH;FMTTYPE=image/jpeg:https://www.cscno-wnchc.org/wp-content/uploads/2024/09/pexels-wellness-gallery-catalyst-foundation-229759139-12086688-scaled.jpg
END:VEVENT
BEGIN:VEVENT
DTSTART;TZID=America/Toronto:20250130T100000
DTEND;TZID=America/Toronto:20250130T140000
DTSTAMP:20260420T024644
CREATED:20231212T160337Z
LAST-MODIFIED:20251210T185724Z
UID:10019330-1738231200-1738245600@www.cscno-wnchc.org
SUMMARY:OASIS: Senior's Day Program (FR)
DESCRIPTION:The Older Adults Staying in Shape (OASIS) is a holistic health program that meets the social\, physical\, emotional\, mental health and cognitive needs of older adults living in West Nipissing. \nClick here to register.
URL:https://www.cscno-wnchc.org/calendrier/oasis-seniors-day-program-fr-2/2025-01-30/
LOCATION:Community Room A&B\, 68 Michaud Street\, Sturgeon Falls\, Ontario\, P2B 1B8\, Canada
ATTACH;FMTTYPE=image/jpeg:https://www.cscno-wnchc.org/wp-content/uploads/2023/01/pexels-kampus-production-6838598-scaled-e1675954399953.jpg
END:VEVENT
BEGIN:VEVENT
DTSTART;TZID=America/Toronto:20250130T090000
DTEND;TZID=America/Toronto:20250130T150000
DTSTAMP:20260420T024644
CREATED:20231211T202935Z
LAST-MODIFIED:20241217T132923Z
UID:10024995-1738227600-1738249200@www.cscno-wnchc.org
SUMMARY:Alzheimer's Society Program
DESCRIPTION:The Alzheimer Society Adult Day Program offers a safe\, structured and stimulating environment that provides clients with meaningful activities and basic personal care while respecting their life history\, cultural and spiritual beliefs.
URL:https://www.cscno-wnchc.org/calendrier/programme-dappuie-de-la-societe-alzheimer/2025-01-30/
LOCATION:Community Room A&B\, 68 Michaud Street\, Sturgeon Falls\, Ontario\, P2B 1B8\, Canada
ATTACH;FMTTYPE=image/jpeg:https://www.cscno-wnchc.org/wp-content/uploads/2023/01/taylor-hernandez-NK-N6coeI5Y-unsplash-scaled-e1675889403635.jpg
END:VEVENT
BEGIN:VEVENT
DTSTART;TZID=America/Toronto:20250129T153000
DTEND;TZID=America/Toronto:20250129T200000
DTSTAMP:20260420T024644
CREATED:20231218T164316Z
LAST-MODIFIED:20251210T183736Z
UID:10036155-1738164600-1738180800@www.cscno-wnchc.org
SUMMARY:The Lighthouse
DESCRIPTION:The Youth Positive Space Program welcomes all youth between the ages of 12 and 18. The space allows youth to express their authentic self and explore their identity without fear by interacting with peers and mentors. \nRegistration mandatory: Click here to register. \nWe look forward to seeing you there! \n  \nWe would like to thank and recognize our local partners for their ongoing contributions in planning and investing in the youth positive space in our community: \nMunicipality of West Nipissing\, West Nipissing Pride\, École secondaire catholique Franco-Cité\, École secondaire publique Nipissing Ouest\, West Nipissing Family Health Team\, OUTLoud North Bay & many local volunteers!
URL:https://www.cscno-wnchc.org/calendrier/youth-positive-space-4/2025-01-29/
LOCATION:ON
ATTACH;FMTTYPE=image/jpeg:https://www.cscno-wnchc.org/wp-content/uploads/2023/05/Untitled-design-e1684436899914.jpg
END:VEVENT
BEGIN:VEVENT
DTSTART;TZID=America/Toronto:20250129T130000
DTEND;TZID=America/Toronto:20250129T140000
DTSTAMP:20260420T024644
CREATED:20240912T135308Z
LAST-MODIFIED:20251210T183557Z
UID:10012322-1738155600-1738159200@www.cscno-wnchc.org
SUMMARY:Move & Play for Seniors
DESCRIPTION:This program is designed to keep seniors active all while socializing and having fun! A mix of active games and low-impact exercises will be offered.  Programming will vary by week. \nThis group is geared towards seniors aged 65+. Register here!
URL:https://www.cscno-wnchc.org/calendrier/move-play-for-seniors/2025-01-29/
LOCATION:WNCHC Gym\, 68 Michaud St.\, Sturgeon Falls\, ON\, P2B 1B8\, Canada
ATTACH;FMTTYPE=image/jpeg:https://www.cscno-wnchc.org/wp-content/uploads/2024/09/pexels-wellness-gallery-catalyst-foundation-229759139-12086688-scaled.jpg
END:VEVENT
BEGIN:VEVENT
DTSTART;TZID=America/Toronto:20250129T100000
DTEND;TZID=America/Toronto:20250129T140000
DTSTAMP:20260420T024644
CREATED:20231212T153358Z
LAST-MODIFIED:20251210T182627Z
UID:10019842-1738144800-1738159200@www.cscno-wnchc.org
SUMMARY:OASIS: Senior's Day Program (ENG)
DESCRIPTION:The Older Adults Staying in Shape (OASIS) is a holistic health program that meets the social\, physical\, emotional\, mental health and cognitive needs of older adults living in West Nipissing. \nRegistration required. Register here! \n*This program is currently at full capacity*
URL:https://www.cscno-wnchc.org/calendrier/oasis-seniors-day-program-eng-2/2025-01-29/
LOCATION:Community Room A&B\, 68 Michaud Street\, Sturgeon Falls\, Ontario\, P2B 1B8\, Canada
ATTACH;FMTTYPE=image/jpeg:https://www.cscno-wnchc.org/wp-content/uploads/2023/01/pexels-kampus-production-8441776-scaled-e1675953829996.jpg
END:VEVENT
BEGIN:VEVENT
DTSTART;TZID=America/Toronto:20250129T090000
DTEND;TZID=America/Toronto:20250129T150000
DTSTAMP:20260420T024644
CREATED:20231211T202935Z
LAST-MODIFIED:20241217T132923Z
UID:10024994-1738141200-1738162800@www.cscno-wnchc.org
SUMMARY:Alzheimer's Society Program
DESCRIPTION:The Alzheimer Society Adult Day Program offers a safe\, structured and stimulating environment that provides clients with meaningful activities and basic personal care while respecting their life history\, cultural and spiritual beliefs.
URL:https://www.cscno-wnchc.org/calendrier/programme-dappuie-de-la-societe-alzheimer/2025-01-29/
LOCATION:Community Room A&B\, 68 Michaud Street\, Sturgeon Falls\, Ontario\, P2B 1B8\, Canada
ATTACH;FMTTYPE=image/jpeg:https://www.cscno-wnchc.org/wp-content/uploads/2023/01/taylor-hernandez-NK-N6coeI5Y-unsplash-scaled-e1675889403635.jpg
END:VEVENT
BEGIN:VEVENT
DTSTART;TZID=America/Toronto:20250128T190000
DTEND;TZID=America/Toronto:20250128T200000
DTSTAMP:20260420T024644
CREATED:20241016T132325Z
LAST-MODIFIED:20250227T134542Z
UID:10015512-1738090800-1738094400@www.cscno-wnchc.org
SUMMARY:Hatha Yoga (Field)
DESCRIPTION:
URL:https://www.cscno-wnchc.org/calendrier/hatha-yoga-field/2025-01-28/
LOCATION:Golden Age Club – Field\, 65 Jarbeau St\, Field\, ON\, P0H1M0\, Canada
ATTACH;FMTTYPE=image/jpeg:https://www.cscno-wnchc.org/wp-content/uploads/2024/08/pexels-yankrukov-8437015-scaled.jpg
END:VEVENT
BEGIN:VEVENT
DTSTART;TZID=America/Toronto:20250128T103000
DTEND;TZID=America/Toronto:20250128T233000
DTSTAMP:20260420T024644
CREATED:20241217T204750Z
LAST-MODIFIED:20250227T135730Z
UID:10025508-1738060200-1738107000@www.cscno-wnchc.org
SUMMARY:Yoga workshop
DESCRIPTION:
URL:https://www.cscno-wnchc.org/calendrier/yoga-workshop/2025-01-28/
LOCATION:WNCHC Gym\, 68 Michaud St.\, Sturgeon Falls\, ON\, P2B 1B8\, Canada
ATTACH;FMTTYPE=image/jpeg:https://www.cscno-wnchc.org/wp-content/uploads/2024/12/hopefilmphoto-QiYZCKJQMck-unsplash-scaled.jpg
END:VEVENT
BEGIN:VEVENT
DTSTART;TZID=America/Toronto:20250128T100000
DTEND;TZID=America/Toronto:20250128T130000
DTSTAMP:20260420T024644
CREATED:20240912T142741Z
LAST-MODIFIED:20251210T180701Z
UID:10013462-1738058400-1738069200@www.cscno-wnchc.org
SUMMARY:OASIS: Senior's Day Program
DESCRIPTION:The Older Adults Staying in Shape (OASIS) is a holistic health program that meets the social\, physical\, emotional\, mental health and cognitive needs of older adults living in West Nipissing. \nClick here to register.
URL:https://www.cscno-wnchc.org/calendrier/oasis-seniors-day-program/2025-01-28/
LOCATION:Activity Room E\, 68 Michaud Street\, Sturgeon Falls\, Ontario\, P2B 1B8\, Canada
ATTACH;FMTTYPE=image/jpeg:https://www.cscno-wnchc.org/wp-content/uploads/2024/09/pexels-kampus-6762298-scaled.jpg
END:VEVENT
BEGIN:VEVENT
DTSTART;TZID=America/Toronto:20250128T090000
DTEND;TZID=America/Toronto:20250128T150000
DTSTAMP:20260420T024644
CREATED:20231211T202935Z
LAST-MODIFIED:20241217T132923Z
UID:10023710-1738054800-1738076400@www.cscno-wnchc.org
SUMMARY:Alzheimer's Society Program
DESCRIPTION:The Alzheimer Society Adult Day Program offers a safe\, structured and stimulating environment that provides clients with meaningful activities and basic personal care while respecting their life history\, cultural and spiritual beliefs.
URL:https://www.cscno-wnchc.org/calendrier/programme-dappuie-de-la-societe-alzheimer/2025-01-28/
LOCATION:Community Room A&B\, 68 Michaud Street\, Sturgeon Falls\, Ontario\, P2B 1B8\, Canada
ATTACH;FMTTYPE=image/jpeg:https://www.cscno-wnchc.org/wp-content/uploads/2023/01/taylor-hernandez-NK-N6coeI5Y-unsplash-scaled-e1675889403635.jpg
END:VEVENT
BEGIN:VEVENT
DTSTART;TZID=America/Toronto:20250127T090000
DTEND;TZID=America/Toronto:20250127T133000
DTSTAMP:20260420T024644
CREATED:20250123T192122Z
LAST-MODIFIED:20251210T162432Z
UID:10025519-1737968400-1737984600@www.cscno-wnchc.org
SUMMARY:Sewing
DESCRIPTION:Sewing for a cause! Participants work on various projects (pyjamas\, clothing\, quilts\, etc.) based on needs. These articles are donated to different organizations and to individuals in our community or abroad. \nRegistration required. *This program is currently at full capacity* \nClick here to register!
URL:https://www.cscno-wnchc.org/calendrier/sewing/2025-01-27/
LOCATION:Community Room A&B\, 68 Michaud Street\, Sturgeon Falls\, Ontario\, P2B 1B8\, Canada
END:VEVENT
BEGIN:VEVENT
DTSTART;TZID=America/Toronto:20250123T140000
DTEND;TZID=America/Toronto:20250123T160000
DTSTAMP:20260420T024644
CREATED:20241210T174630Z
LAST-MODIFIED:20251210T183358Z
UID:10021908-1737640800-1737648000@www.cscno-wnchc.org
SUMMARY:Early-ON: Busy Toddlers
DESCRIPTION:
URL:https://www.cscno-wnchc.org/calendrier/early-on-busy-toddlers/2025-01-23/
LOCATION:WNCHC Gym\, 68 Michaud St.\, Sturgeon Falls\, ON\, P2B 1B8\, Canada
ATTACH;FMTTYPE=image/jpeg:https://www.cscno-wnchc.org/wp-content/uploads/2024/12/Untitled-14-x-11-in-1.jpg
END:VEVENT
BEGIN:VEVENT
DTSTART;TZID=America/Toronto:20250123T130000
DTEND;TZID=America/Toronto:20250123T140000
DTSTAMP:20260420T024644
CREATED:20240912T135308Z
LAST-MODIFIED:20251210T183557Z
UID:10012321-1737637200-1737640800@www.cscno-wnchc.org
SUMMARY:Move & Play for Seniors
DESCRIPTION:This program is designed to keep seniors active all while socializing and having fun! A mix of active games and low-impact exercises will be offered.  Programming will vary by week. \nThis group is geared towards seniors aged 65+. Register here!
URL:https://www.cscno-wnchc.org/calendrier/move-play-for-seniors/2025-01-23/
LOCATION:WNCHC Gym\, 68 Michaud St.\, Sturgeon Falls\, ON\, P2B 1B8\, Canada
ATTACH;FMTTYPE=image/jpeg:https://www.cscno-wnchc.org/wp-content/uploads/2024/09/pexels-wellness-gallery-catalyst-foundation-229759139-12086688-scaled.jpg
END:VEVENT
BEGIN:VEVENT
DTSTART;TZID=America/Toronto:20250123T100000
DTEND;TZID=America/Toronto:20250123T140000
DTSTAMP:20260420T024644
CREATED:20231212T160337Z
LAST-MODIFIED:20251210T185724Z
UID:10019329-1737626400-1737640800@www.cscno-wnchc.org
SUMMARY:OASIS: Senior's Day Program (FR)
DESCRIPTION:The Older Adults Staying in Shape (OASIS) is a holistic health program that meets the social\, physical\, emotional\, mental health and cognitive needs of older adults living in West Nipissing. \nClick here to register.
URL:https://www.cscno-wnchc.org/calendrier/oasis-seniors-day-program-fr-2/2025-01-23/
LOCATION:Community Room A&B\, 68 Michaud Street\, Sturgeon Falls\, Ontario\, P2B 1B8\, Canada
ATTACH;FMTTYPE=image/jpeg:https://www.cscno-wnchc.org/wp-content/uploads/2023/01/pexels-kampus-production-6838598-scaled-e1675954399953.jpg
END:VEVENT
BEGIN:VEVENT
DTSTART;TZID=America/Toronto:20250123T090000
DTEND;TZID=America/Toronto:20250123T150000
DTSTAMP:20260420T024644
CREATED:20231211T202935Z
LAST-MODIFIED:20241217T132923Z
UID:10024993-1737622800-1737644400@www.cscno-wnchc.org
SUMMARY:Alzheimer's Society Program
DESCRIPTION:The Alzheimer Society Adult Day Program offers a safe\, structured and stimulating environment that provides clients with meaningful activities and basic personal care while respecting their life history\, cultural and spiritual beliefs.
URL:https://www.cscno-wnchc.org/calendrier/programme-dappuie-de-la-societe-alzheimer/2025-01-23/
LOCATION:Community Room A&B\, 68 Michaud Street\, Sturgeon Falls\, Ontario\, P2B 1B8\, Canada
ATTACH;FMTTYPE=image/jpeg:https://www.cscno-wnchc.org/wp-content/uploads/2023/01/taylor-hernandez-NK-N6coeI5Y-unsplash-scaled-e1675889403635.jpg
END:VEVENT
BEGIN:VEVENT
DTSTART;TZID=America/Toronto:20250122T153000
DTEND;TZID=America/Toronto:20250122T200000
DTSTAMP:20260420T024644
CREATED:20231218T164316Z
LAST-MODIFIED:20251210T183736Z
UID:10020355-1737559800-1737576000@www.cscno-wnchc.org
SUMMARY:The Lighthouse
DESCRIPTION:The Youth Positive Space Program welcomes all youth between the ages of 12 and 18. The space allows youth to express their authentic self and explore their identity without fear by interacting with peers and mentors. \nRegistration mandatory: Click here to register. \nWe look forward to seeing you there! \n  \nWe would like to thank and recognize our local partners for their ongoing contributions in planning and investing in the youth positive space in our community: \nMunicipality of West Nipissing\, West Nipissing Pride\, École secondaire catholique Franco-Cité\, École secondaire publique Nipissing Ouest\, West Nipissing Family Health Team\, OUTLoud North Bay & many local volunteers!
URL:https://www.cscno-wnchc.org/calendrier/youth-positive-space-4/2025-01-22/
LOCATION:ON
ATTACH;FMTTYPE=image/jpeg:https://www.cscno-wnchc.org/wp-content/uploads/2023/05/Untitled-design-e1684436899914.jpg
END:VEVENT
BEGIN:VEVENT
DTSTART;TZID=America/Toronto:20250122T130000
DTEND;TZID=America/Toronto:20250122T140000
DTSTAMP:20260420T024644
CREATED:20240912T135308Z
LAST-MODIFIED:20251210T183557Z
UID:10012320-1737550800-1737554400@www.cscno-wnchc.org
SUMMARY:Move & Play for Seniors
DESCRIPTION:This program is designed to keep seniors active all while socializing and having fun! A mix of active games and low-impact exercises will be offered.  Programming will vary by week. \nThis group is geared towards seniors aged 65+. Register here!
URL:https://www.cscno-wnchc.org/calendrier/move-play-for-seniors/2025-01-22/
LOCATION:WNCHC Gym\, 68 Michaud St.\, Sturgeon Falls\, ON\, P2B 1B8\, Canada
ATTACH;FMTTYPE=image/jpeg:https://www.cscno-wnchc.org/wp-content/uploads/2024/09/pexels-wellness-gallery-catalyst-foundation-229759139-12086688-scaled.jpg
END:VEVENT
BEGIN:VEVENT
DTSTART;TZID=America/Toronto:20250122T100000
DTEND;TZID=America/Toronto:20250122T140000
DTSTAMP:20260420T024644
CREATED:20231212T153358Z
LAST-MODIFIED:20251210T182627Z
UID:10019841-1737540000-1737554400@www.cscno-wnchc.org
SUMMARY:OASIS: Senior's Day Program (ENG)
DESCRIPTION:The Older Adults Staying in Shape (OASIS) is a holistic health program that meets the social\, physical\, emotional\, mental health and cognitive needs of older adults living in West Nipissing. \nRegistration required. Register here! \n*This program is currently at full capacity*
URL:https://www.cscno-wnchc.org/calendrier/oasis-seniors-day-program-eng-2/2025-01-22/
LOCATION:Community Room A&B\, 68 Michaud Street\, Sturgeon Falls\, Ontario\, P2B 1B8\, Canada
ATTACH;FMTTYPE=image/jpeg:https://www.cscno-wnchc.org/wp-content/uploads/2023/01/pexels-kampus-production-8441776-scaled-e1675953829996.jpg
END:VEVENT
BEGIN:VEVENT
DTSTART;TZID=America/Toronto:20250122T090000
DTEND;TZID=America/Toronto:20250122T150000
DTSTAMP:20260420T024644
CREATED:20231211T202935Z
LAST-MODIFIED:20241217T132923Z
UID:10024992-1737536400-1737558000@www.cscno-wnchc.org
SUMMARY:Alzheimer's Society Program
DESCRIPTION:The Alzheimer Society Adult Day Program offers a safe\, structured and stimulating environment that provides clients with meaningful activities and basic personal care while respecting their life history\, cultural and spiritual beliefs.
URL:https://www.cscno-wnchc.org/calendrier/programme-dappuie-de-la-societe-alzheimer/2025-01-22/
LOCATION:Community Room A&B\, 68 Michaud Street\, Sturgeon Falls\, Ontario\, P2B 1B8\, Canada
ATTACH;FMTTYPE=image/jpeg:https://www.cscno-wnchc.org/wp-content/uploads/2023/01/taylor-hernandez-NK-N6coeI5Y-unsplash-scaled-e1675889403635.jpg
END:VEVENT
BEGIN:VEVENT
DTSTART;TZID=America/Toronto:20250121T190000
DTEND;TZID=America/Toronto:20250121T200000
DTSTAMP:20260420T024644
CREATED:20241016T132325Z
LAST-MODIFIED:20250227T134542Z
UID:10015511-1737486000-1737489600@www.cscno-wnchc.org
SUMMARY:Hatha Yoga (Field)
DESCRIPTION:
URL:https://www.cscno-wnchc.org/calendrier/hatha-yoga-field/2025-01-21/
LOCATION:Golden Age Club – Field\, 65 Jarbeau St\, Field\, ON\, P0H1M0\, Canada
ATTACH;FMTTYPE=image/jpeg:https://www.cscno-wnchc.org/wp-content/uploads/2024/08/pexels-yankrukov-8437015-scaled.jpg
END:VEVENT
END:VCALENDAR